BEGIN:VCALENDAR
VERSION:2.0
PRODID:-//Community Development Society - ECPv6.15.20//NONSGML v1.0//EN
CALSCALE:GREGORIAN
METHOD:PUBLISH
X-ORIGINAL-URL:https://cdsociety.org
X-WR-CALDESC:Events for Community Development Society
REFRESH-INTERVAL;VALUE=DURATION:PT1H
X-Robots-Tag:noindex
X-PUBLISHED-TTL:PT1H
BEGIN:VTIMEZONE
TZID:America/New_York
BEGIN:DAYLIGHT
TZOFFSETFROM:-0500
TZOFFSETTO:-0400
TZNAME:EDT
DTSTART:20250309T070000
END:DAYLIGHT
BEGIN:STANDARD
TZOFFSETFROM:-0400
TZOFFSETTO:-0500
TZNAME:EST
DTSTART:20251102T060000
END:STANDARD
BEGIN:DAYLIGHT
TZOFFSETFROM:-0500
TZOFFSETTO:-0400
TZNAME:EDT
DTSTART:20260308T070000
END:DAYLIGHT
BEGIN:STANDARD
TZOFFSETFROM:-0400
TZOFFSETTO:-0500
TZNAME:EST
DTSTART:20261101T060000
END:STANDARD
BEGIN:DAYLIGHT
TZOFFSETFROM:-0500
TZOFFSETTO:-0400
TZNAME:EDT
DTSTART:20270314T070000
END:DAYLIGHT
BEGIN:STANDARD
TZOFFSETFROM:-0400
TZOFFSETTO:-0500
TZNAME:EST
DTSTART:20271107T060000
END:STANDARD
END:VTIMEZONE
BEGIN:VEVENT
DTSTART;TZID=America/New_York:20260429T140000
DTEND;TZID=America/New_York:20260429T153000
DTSTAMP:20260422T070410
CREATED:20260325T190455Z
LAST-MODIFIED:20260325T190547Z
UID:14847-1777471200-1777476600@cdsociety.org
SUMMARY:Free Webinar: Principles of Good Practice Webinar Series: Dignity within Diversity
DESCRIPTION:Principles of Good Practice Webinar Series: Dignity within Diversity\nWednesday\, April 29\, 2026 — 2:00 pm Eastern Time (US & Canada) \nTo register for this webinar meeting click HERE. \nCommunity Development Society (CDS) supports eight Principles of Good Practice for community development. Beginning in 2026\, CDS will host a two-year webinar series exploring these principles\, with four sessions offered each year and led by practitioners and researchers. The series emphasizes dialogue and shared learning among community development professionals\, pairing research-based insights with opportunities for discussion and application. \nThe first session will focus on Dignity within Diversity\, engaging participants across differences in identity and culture through guided\, practice-based conversation. Participants will explore the distinction between dialogue and debate\, reflect on systems of power and privilege\, and engage with research\, examples\, and peer perspectives to strengthen their community development practice. \nPresenters: \nDr. Dwayne T. James\, P.E. \nDr. Dwayne T. James\, P.E.\, is a dynamic leader with a deep commitment to community engagement and expanding access to opportunity. He serves as the statewide Director of Access and Engagement for MU Extension\, where he leads efforts to foster a culture in which all individuals—faculty\, staff\, participants\, volunteers\, and partners—are valued\, supported\, and able to thrive. He also serves as a Field Specialist in Community Development for St. Louis County\, leading impactful programs such as the Neighborhood Leadership Fellows and the Youth Empowerment Program—initiatives that equip residents with the tools to drive meaningful change in their communities. With a background in structural engineering and public service including serving as a Ferguson City Council member and co-founding the Ferguson Youth Initiative—Dr. James brings a unique blend of technical expertise\, civic leadership\, and a strong dedication to strengthening communities. He holds B.S. and M.S. degrees in civil engineering and a doctorate in education. \nDionardo Pizaña\, Emeritus \nDionardo Pizaña was the Diversity\, Equity\, and Inclusion Specialist for Michigan State University Extension until his retirement in March 2024. He has over 25 years of experience developing\, teaching\, and facilitating culture\, access and inclusion education programs through Michigan State University Extension\, Adrian College\, and Siena Heights University. He remains as a faculty member as part of the Great Lakes Leadership Academy Emerging Leaders Program (ELP) last taught in August 2025. Dionardo’s work as an activist and educator is grounded in his conviction that deep and lasting institutional change requires an equally strong commitment to “working on oneself” while nurturing authentic relationships across difference. He believes that authenticity is far more than mere friendship or working affiliation. It is based on trust\, honesty\, risk-taking\, mutual responsibility\, humility\, and acceptance that tension in relationships is a necessary component that leads to growth. As a lifelong learner around issues related to social justice and change\, Dionardo has participated in foundational learning opportunities such as cultural bridges\, VISIONS training\, Opening Doors and The People’s Institute. Dionardo earned a Bachelor’s degree in Sociology from the University of Michigan and a Master’s degree in Organizational Leadership and Development from Siena Heights University.
URL:https://cdsociety.org/event/free-webinar-community-well-being-and-quality-of-life-focus-on-indiana/
LOCATION:Zoom
CATEGORIES:Webinar
ATTACH;FMTTYPE=image/png:https://cdsociety.org/wp-content/uploads/2026/03/FINAL-with-QR-Code_PrinciplesGoodPracticeWebinarSeries-April-2026.png
ORGANIZER;CN="Community Development Society":MAILTO:admin@CDSociety.org
END:VEVENT
BEGIN:VEVENT
DTSTART;TZID=America/New_York:20260513T160000
DTEND;TZID=America/New_York:20260513T173000
DTSTAMP:20260422T070410
CREATED:20250818T213132Z
LAST-MODIFIED:20260325T191143Z
UID:13661-1778688000-1778693400@cdsociety.org
SUMMARY:May 2026 CDS Board Meeting
DESCRIPTION:CDS Members are invited to register to attend the monthly board meeting. \nIf you are a current CDS Member and wish to join\, please email Tammy Baxter at director@cdsociety.org at least three days before the meeting date.  If you are an active CDS Member\, you will receive a Zoom invite with meeting link to join.
URL:https://cdsociety.org/event/may2026-cds-board-meeting/
CATEGORIES:CDS Monthly Board Meeting
ATTACH;FMTTYPE=image/png:https://cdsociety.org/wp-content/uploads/2024/02/Board-Meeting.png
END:VEVENT
BEGIN:VEVENT
DTSTART;TZID=America/New_York:20260610T160000
DTEND;TZID=America/New_York:20260610T173000
DTSTAMP:20260422T070410
CREATED:20250818T213241Z
LAST-MODIFIED:20260325T191044Z
UID:13663-1781107200-1781112600@cdsociety.org
SUMMARY:June 2026 CDS Board Meeting
DESCRIPTION:CDS Members are invited to register to attend the monthly board meeting. \nIf you are a current CDS Member and wish to join\, please email Tammy Baxter at director@cdsociety.org at least three days before the meeting date.  If you are an active CDS Member\, you will receive a Zoom invite with meeting link to join.
URL:https://cdsociety.org/event/june-2026-cds-board-meeting/
CATEGORIES:CDS Monthly Board Meeting
ATTACH;FMTTYPE=image/png:https://cdsociety.org/wp-content/uploads/2024/02/Board-Meeting.png
END:VEVENT
BEGIN:VEVENT
DTSTART;TZID=America/New_York:20260719T090000
DTEND;TZID=America/New_York:20260719T113000
DTSTAMP:20260422T070410
CREATED:20260325T190007Z
LAST-MODIFIED:20260325T190103Z
UID:14845-1784451600-1784460600@cdsociety.org
SUMMARY:July 19\, 2026 CDS (Old) Board Meeting
DESCRIPTION:Location: 2026 CDS Conference \nDate and Time: July 19\, 2026 – 9:00 am to 11:30 am EDT \nCDS Members are invited to register to attend the monthly board meeting. \nIf you are a current CDS Member and wish to join in person at the conference or via Zoom\, please email Tammy Baxter at director@cdsociety.org by June 30\, 2026.
URL:https://cdsociety.org/event/july-19-2026-cds-old-board-meeting/
ATTACH;FMTTYPE=image/png:https://cdsociety.org/wp-content/uploads/2024/02/Board-Meeting.png
END:VEVENT
BEGIN:VEVENT
DTSTART;TZID=America/New_York:20260722T080000
DTEND;TZID=America/New_York:20260722T091500
DTSTAMP:20260422T070410
CREATED:20260325T190744Z
LAST-MODIFIED:20260325T190801Z
UID:14851-1784707200-1784711700@cdsociety.org
SUMMARY:CDS Annual Meeting
DESCRIPTION:Location: 2026 CDS Conference \nDate and Time: July 22\, 2026 – 8:00 am to 9:15 am EST \nAll CDS Members are invited to attend the annual meeting. \nIf you are a current CDS Member and wish to join via Zoom\, please email Tammy Baxter at director@cdsociety.org by June 30\, 2026.
URL:https://cdsociety.org/event/cds-annual-meeting/
ATTACH;FMTTYPE=image/png:https://cdsociety.org/wp-content/uploads/2025/06/CDS-Annual-Meeting-transparent.png
END:VEVENT
BEGIN:VEVENT
DTSTART;TZID=America/New_York:20260722T140000
DTEND;TZID=America/New_York:20260722T153000
DTSTAMP:20260422T070410
CREATED:20260325T190925Z
LAST-MODIFIED:20260325T190925Z
UID:14854-1784728800-1784734200@cdsociety.org
SUMMARY:July 22\, 2026 CDS (New) Board Meeting
DESCRIPTION:Location: 2026 CDS Conference \nDate and Time: July 22\, 2026 – 2:00 pm to 3:30 pm EST \nCDS Members are invited to register to attend the monthly board meeting. \nIf you are a current CDS Member and wish to join via Zoom\, please email Tammy Baxter at director@cdsociety.org by June 30\, 2026.
URL:https://cdsociety.org/event/july-22-2026-cds-new-board-meeting/
ATTACH;FMTTYPE=image/png:https://cdsociety.org/wp-content/uploads/2024/02/Board-Meeting.png
END:VEVENT
END:VCALENDAR