BEGIN:VCALENDAR
VERSION:2.0
PRODID:-//Community Development Society - ECPv6.15.20//NONSGML v1.0//EN
CALSCALE:GREGORIAN
METHOD:PUBLISH
X-ORIGINAL-URL:https://cdsociety.org
X-WR-CALDESC:Events for Community Development Society
REFRESH-INTERVAL;VALUE=DURATION:PT1H
X-Robots-Tag:noindex
X-PUBLISHED-TTL:PT1H
BEGIN:VTIMEZONE
TZID:America/New_York
BEGIN:DAYLIGHT
TZOFFSETFROM:-0500
TZOFFSETTO:-0400
TZNAME:EDT
DTSTART:20230312T070000
END:DAYLIGHT
BEGIN:STANDARD
TZOFFSETFROM:-0400
TZOFFSETTO:-0500
TZNAME:EST
DTSTART:20231105T060000
END:STANDARD
BEGIN:DAYLIGHT
TZOFFSETFROM:-0500
TZOFFSETTO:-0400
TZNAME:EDT
DTSTART:20240310T070000
END:DAYLIGHT
BEGIN:STANDARD
TZOFFSETFROM:-0400
TZOFFSETTO:-0500
TZNAME:EST
DTSTART:20241103T060000
END:STANDARD
BEGIN:DAYLIGHT
TZOFFSETFROM:-0500
TZOFFSETTO:-0400
TZNAME:EDT
DTSTART:20250309T070000
END:DAYLIGHT
BEGIN:STANDARD
TZOFFSETFROM:-0400
TZOFFSETTO:-0500
TZNAME:EST
DTSTART:20251102T060000
END:STANDARD
BEGIN:DAYLIGHT
TZOFFSETFROM:-0500
TZOFFSETTO:-0400
TZNAME:EDT
DTSTART:20260308T070000
END:DAYLIGHT
BEGIN:STANDARD
TZOFFSETFROM:-0400
TZOFFSETTO:-0500
TZNAME:EST
DTSTART:20261101T060000
END:STANDARD
BEGIN:DAYLIGHT
TZOFFSETFROM:-0500
TZOFFSETTO:-0400
TZNAME:EDT
DTSTART:20270314T070000
END:DAYLIGHT
BEGIN:STANDARD
TZOFFSETFROM:-0400
TZOFFSETTO:-0500
TZNAME:EST
DTSTART:20271107T060000
END:STANDARD
END:VTIMEZONE
BEGIN:VEVENT
DTSTART;TZID=America/New_York:20260408T160000
DTEND;TZID=America/New_York:20260408T173000
DTSTAMP:20260422T082212
CREATED:20250818T212948Z
LAST-MODIFIED:20260325T191224Z
UID:13659-1775664000-1775669400@cdsociety.org
SUMMARY:April 2026 CDS Board Meeting
DESCRIPTION:CDS Members are invited to register to attend the monthly board meeting. \nIf you are a current CDS Member and wish to join\, please email Tammy Baxter at director@cdsociety.org at least three days before the meeting date.  If you are an active CDS Member\, you will receive a Zoom invite with meeting link to join.
URL:https://cdsociety.org/event/april-2026-cds-board-meeting/
CATEGORIES:CDS Monthly Board Meeting
ATTACH;FMTTYPE=image/png:https://cdsociety.org/wp-content/uploads/2024/02/Board-Meeting.png
END:VEVENT
BEGIN:VEVENT
DTSTART;TZID=America/New_York:20260311T160000
DTEND;TZID=America/New_York:20260311T173000
DTSTAMP:20260422T082212
CREATED:20250818T212837Z
LAST-MODIFIED:20260325T191251Z
UID:13657-1773244800-1773250200@cdsociety.org
SUMMARY:March 2026 CDS Board Meeting
DESCRIPTION:CDS Members are invited to register to attend the monthly board meeting. \nIf you are a current CDS Member and wish to join\, please email Tammy Baxter at director@cdsociety.org at least three days before the meeting date.  If you are an active CDS Member\, you will receive a Zoom invite with meeting link to join.
URL:https://cdsociety.org/event/march-2026-cds-board-meeting/
CATEGORIES:CDS Monthly Board Meeting
ATTACH;FMTTYPE=image/png:https://cdsociety.org/wp-content/uploads/2024/02/Board-Meeting.png
END:VEVENT
BEGIN:VEVENT
DTSTART;TZID=America/New_York:20260211T160000
DTEND;TZID=America/New_York:20260211T173000
DTSTAMP:20260422T082212
CREATED:20250818T212744Z
LAST-MODIFIED:20260325T191320Z
UID:13655-1770825600-1770831000@cdsociety.org
SUMMARY:February 2026 CDS Board Meeting
DESCRIPTION:CDS Members are invited to register to attend the monthly board meeting. \nIf you are a current CDS Member and wish to join\, please email Tammy Baxter at director@cdsociety.org at least three days before the meeting date.  If you are an active CDS Member\, you will receive a Zoom invite with meeting link to join.
URL:https://cdsociety.org/event/february-2026-cds-board-meeting/
CATEGORIES:CDS Monthly Board Meeting
ATTACH;FMTTYPE=image/png:https://cdsociety.org/wp-content/uploads/2024/02/Board-Meeting.png
END:VEVENT
BEGIN:VEVENT
DTSTART;TZID=America/New_York:20260113T160000
DTEND;TZID=America/New_York:20260113T173000
DTSTAMP:20260422T082212
CREATED:20250818T212619Z
LAST-MODIFIED:20250818T212619Z
UID:13653-1768320000-1768325400@cdsociety.org
SUMMARY:January 2026 CDS Board Meeting
DESCRIPTION:CDS Members are invited to register to attend the monthly board meeting. \nIf you are a current CDS Member and wish to join\, please email Tammy Baxter at director@cdsociety.org at least three days before the meeting date.  If you are an active CDS Member\, you will receive a Zoom invite with meeting link to join.
URL:https://cdsociety.org/event/january-2026-cds-board-meeting/
CATEGORIES:CDS Monthly Board Meeting
ATTACH;FMTTYPE=image/png:https://cdsociety.org/wp-content/uploads/2024/02/Board-Meeting.png
END:VEVENT
BEGIN:VEVENT
DTSTART;TZID=America/New_York:20251209T160000
DTEND;TZID=America/New_York:20251209T173000
DTSTAMP:20260422T082212
CREATED:20250818T212505Z
LAST-MODIFIED:20250818T212505Z
UID:13651-1765296000-1765301400@cdsociety.org
SUMMARY:December 2025 CDS Board Meeting
DESCRIPTION:CDS Members are invited to register to attend the monthly board meeting. \nIf you are a current CDS Member and wish to join\, please email Tammy Baxter at director@cdsociety.org at least three days before the meeting date.  If you are an active CDS Member\, you will receive a Zoom invite with meeting link to join.
URL:https://cdsociety.org/event/december-2025-cds-board-meeting/
CATEGORIES:CDS Monthly Board Meeting
ATTACH;FMTTYPE=image/png:https://cdsociety.org/wp-content/uploads/2024/02/Board-Meeting.png
END:VEVENT
BEGIN:VEVENT
DTSTART;TZID=America/New_York:20251111T160000
DTEND;TZID=America/New_York:20251111T173000
DTSTAMP:20260422T082212
CREATED:20250818T212338Z
LAST-MODIFIED:20250818T212338Z
UID:13649-1762876800-1762882200@cdsociety.org
SUMMARY:November 2025 CDS Board Meeting
DESCRIPTION:CDS Members are invited to register to attend the monthly board meeting. \nIf you are a current CDS Member and wish to join\, please email Tammy Baxter at director@cdsociety.org at least three days before the meeting date.  If you are an active CDS Member\, you will receive a Zoom invite with meeting link to join.
URL:https://cdsociety.org/event/november-2025-cds-board-meeting/
CATEGORIES:CDS Monthly Board Meeting
ATTACH;FMTTYPE=image/png:https://cdsociety.org/wp-content/uploads/2024/02/Board-Meeting.png
END:VEVENT
BEGIN:VEVENT
DTSTART;TZID=America/New_York:20251014T160000
DTEND;TZID=America/New_York:20251014T173000
DTSTAMP:20260422T082212
CREATED:20250818T212249Z
LAST-MODIFIED:20250818T212249Z
UID:13647-1760457600-1760463000@cdsociety.org
SUMMARY:October 2025 CDS Board Meeting
DESCRIPTION:CDS Members are invited to register to attend the monthly board meeting. \nIf you are a current CDS Member and wish to join\, please email Tammy Baxter at director@cdsociety.org at least three days before the meeting date.  If you are an active CDS Member\, you will receive a Zoom invite with meeting link to join.
URL:https://cdsociety.org/event/october-2025-cds-board-meeting/
CATEGORIES:CDS Monthly Board Meeting
ATTACH;FMTTYPE=image/png:https://cdsociety.org/wp-content/uploads/2024/02/Board-Meeting.png
END:VEVENT
BEGIN:VEVENT
DTSTART;TZID=America/New_York:20250909T160000
DTEND;TZID=America/New_York:20250909T173000
DTSTAMP:20260422T082212
CREATED:20250818T212116Z
LAST-MODIFIED:20250818T212116Z
UID:13645-1757433600-1757439000@cdsociety.org
SUMMARY:September 2025 CDS Board Meeting
DESCRIPTION:CDS Members are invited to register to attend the monthly board meeting. \nIf you are a current CDS Member and wish to join\, please email Tammy Baxter at director@cdsociety.org at least three days before the meeting date.  If you are an active CDS Member\, you will receive a Zoom invite with meeting link to join.
URL:https://cdsociety.org/event/september-2025-cds-board-meeting/
CATEGORIES:CDS Monthly Board Meeting
ATTACH;FMTTYPE=image/png:https://cdsociety.org/wp-content/uploads/2024/02/Board-Meeting.png
END:VEVENT
BEGIN:VEVENT
DTSTART;TZID=America/New_York:20250812T160000
DTEND;TZID=America/New_York:20250812T173000
DTSTAMP:20260422T082212
CREATED:20250730T155103Z
LAST-MODIFIED:20250730T155103Z
UID:13580-1755014400-1755019800@cdsociety.org
SUMMARY:August 2025 CDS Board Meeting
DESCRIPTION:CDS Members are invited to register to attend the monthly board meeting. \nIf you are a current CDS Member and wish to join\, please email Tammy Baxter at director@cdsociety.org at least three days before the meeting date.  If you are an active CDS Member\, you will receive a Zoom invite with meeting link to join.
URL:https://cdsociety.org/event/august-2025-cds-board-meeting/
ATTACH;FMTTYPE=image/png:https://cdsociety.org/wp-content/uploads/2024/02/Board-Meeting.png
END:VEVENT
BEGIN:VEVENT
DTSTART;TZID=America/New_York:20250709T140000
DTEND;TZID=America/New_York:20250709T153000
DTSTAMP:20260422T082212
CREATED:20250618T001538Z
LAST-MODIFIED:20250618T001538Z
UID:13457-1752069600-1752075000@cdsociety.org
SUMMARY:July 9\, 2025 CDS (New) Board Meeting
DESCRIPTION:Location: 2025 CDS Conference \nDate and Time: July 9\, 2025 – 2:00 pm to 3:30 pm EDT \nCDS Members are invited to register to attend the monthly board meeting. \nIf you are a current CDS Member and wish to join via Zoom\, please email Tammy Baxter at director@cdsociety.org by June 30\, 2025.
URL:https://cdsociety.org/event/july-9-2025-cds-new-board-meeting/
ATTACH;FMTTYPE=image/png:https://cdsociety.org/wp-content/uploads/2024/02/Board-Meeting.png
END:VEVENT
BEGIN:VEVENT
DTSTART;TZID=America/New_York:20250709T080000
DTEND;TZID=America/New_York:20250709T091500
DTSTAMP:20260422T082212
CREATED:20250617T235206Z
LAST-MODIFIED:20250618T001749Z
UID:13449-1752048000-1752052500@cdsociety.org
SUMMARY:CDS Annual Meeting
DESCRIPTION:Location: 2025 CDS Conference \nDate and Time: July 9\, 2025 – 8:00 am to 9:15 am EDT \nAll CDS Members are invited to attend the annual meeting. \nIf you are a current CDS Member and wish to join via Zoom\, please email Tammy Baxter at director@cdsociety.org by June 30\, 2025.
URL:https://cdsociety.org/event/2025-cds-annual-meeting/
ATTACH;FMTTYPE=image/png:https://cdsociety.org/wp-content/uploads/2025/06/CDS-Annual-Meeting-transparent.png
END:VEVENT
BEGIN:VEVENT
DTSTART;TZID=America/New_York:20250706T090000
DTEND;TZID=America/New_York:20250706T113000
DTSTAMP:20260422T082212
CREATED:20250617T234658Z
LAST-MODIFIED:20250617T234658Z
UID:13447-1751792400-1751801400@cdsociety.org
SUMMARY:July 6\, 2025 CDS (Old) Board Meeting
DESCRIPTION:Location: 2025 CDS Conference \nDate and Time: July 6\, 2025 – 9:00 am to 11:30 am EDT \nCDS Members are invited to register to attend the monthly board meeting. \nIf you are a current CDS Member and wish to join via Zoom\, please email Tammy Baxter at director@cdsociety.org by June 30\, 2025.
URL:https://cdsociety.org/event/july-6-2025-cds-old-board-meeting/
ATTACH;FMTTYPE=image/png:https://cdsociety.org/wp-content/uploads/2024/02/Board-Meeting.png
END:VEVENT
BEGIN:VEVENT
DTSTART;VALUE=DATE:20250706
DTEND;VALUE=DATE:20250710
DTSTAMP:20260422T082212
CREATED:20250617T234242Z
LAST-MODIFIED:20250617T234306Z
UID:13445-1751760000-1752105599@cdsociety.org
SUMMARY:2025 CDS Annual Conference
DESCRIPTION:Dates: July 6 – 9\nLocation: Geneva\, New York\n\n\n\n\nTheme: Innovative Pathways to Thriving Communities:\nTechnology\, People\, and Place-based Collaboration\nTo Learn More and to Register\, click HERE
URL:https://cdsociety.org/event/2025-cds-annual-conference/
CATEGORIES:Annual Conference
ATTACH;FMTTYPE=image/png:https://cdsociety.org/wp-content/uploads/2025/03/Jotform-Header-2025-CDS-Conference-.png
ORGANIZER;CN="Community Development Society":MAILTO:admin@CDSociety.org
END:VEVENT
BEGIN:VEVENT
DTSTART;TZID=America/New_York:20250609T140000
DTEND;TZID=America/New_York:20250609T153000
DTSTAMP:20260422T082212
CREATED:20250227T212601Z
LAST-MODIFIED:20250227T212601Z
UID:12645-1749477600-1749483000@cdsociety.org
SUMMARY:June 2025 CDS Board Meeting
DESCRIPTION:CDS Members are invited to register to attend the monthly board meeting. \nIf you are a current CDS Member and wish to join\, please email Tammy Baxter at director@cdsociety.org at least three days before the meeting date.  If you are an active CDS Member\, you will receive a Zoom invite with meeting link to join.
URL:https://cdsociety.org/event/june-2025-cds-board-meeting/
ATTACH;FMTTYPE=image/png:https://cdsociety.org/wp-content/uploads/2024/02/Board-Meeting.png
END:VEVENT
BEGIN:VEVENT
DTSTART;TZID=America/New_York:20250512T140000
DTEND;TZID=America/New_York:20250512T153000
DTSTAMP:20260422T082212
CREATED:20250227T212449Z
LAST-MODIFIED:20250227T212449Z
UID:12642-1747058400-1747063800@cdsociety.org
SUMMARY:May 2025 CDS Board Meeting
DESCRIPTION:CDS Members are invited to register to attend the monthly board meeting. \nIf you are a current CDS Member and wish to join\, please email Tammy Baxter at director@cdsociety.org at least three days before the meeting date.  If you are an active CDS Member\, you will receive a Zoom invite with meeting link to join.
URL:https://cdsociety.org/event/may-2025-cds-board-meeting/
ATTACH;FMTTYPE=image/png:https://cdsociety.org/wp-content/uploads/2024/02/Board-Meeting.png
END:VEVENT
BEGIN:VEVENT
DTSTART;TZID=America/New_York:20250421T130000
DTEND;TZID=America/New_York:20250421T143000
DTSTAMP:20260422T082212
CREATED:20250327T031630Z
LAST-MODIFIED:20250327T031711Z
UID:12831-1745240400-1745245800@cdsociety.org
SUMMARY:Free Webinar: Community Well-being and Quality of Life: Focus on Indiana
DESCRIPTION:Community Well-being and Quality of Life: Focus on Indiana \nMonday\, April 21\, 2025 — 1:00 pm Eastern Time (US & Canada) \nThis Webinar is Presented by the Community Development Society (CDS) in partnership with Community and Well-Being Learning Collaborative at Purdue University John Martinson Honors College\, Purdue University’s Center for Rural Research\, Education and Outreach (PCRREO)\, the North Central Regional Center for Rural Development (NCRCRD)\, and the International Society for Quality-of-Life Studies (ISQOLS). \nThe theme of this webinar is community well-being and quality of life\, specifically for rural Indiana. After introductions\, there will be three presentations\, followed by some time for audience questions and dialogue. First\, Hossein Mousazadeh\, Ph.D. will speak about community quality of life\, newcomers\, and rural health. Second\, Zuzana Bednarik\, Ph.D. and Michael Wilcox\, Ph.D. will discuss NCRCRD’s 2024 dataset on rural-urban Indiana quality of life\, and compare select findings to their 2022 dataset. Third\, Esmeralda Cruz\, M.S. will talk about immigration in Indiana and the policy implications with community well-being and quality of life. Through these conversations on both academic and applied work\, attendees will depart the webinar with a deeper understanding of both the context and lived experiences of community members\, their well-being\, and quality of life living in Indiana. \nPresenters: \nHossein Mousazadeh\, Ph.D.\, Postdoctoral Research Assistant\, Community and Well-Being Learning Collaborative at Purdue University’s John Martinson Honors College and Research Fellow\, International Society for Quality-of-Life Studies (ISQOLS) \nZuzana Bednarik\, Ph.D.\, Research and Extension Specialist\, North Central Regional Center for Rural Development \nMichael Wilcox\, Ph.D.\, Associate Director\, North Central Regional Center for Rural Development \nEsmeralda Cruz\, M.S.\, Hispanic/Latino Community Engagement Specialist\, Purdue Extension \nTo register for this free webinar click HERE
URL:https://cdsociety.org/event/free-webinar-leadership-chautauqua-revolutionizing-extensions-approach-to-community-development-systems-co-sponsored-by-the-cds-and-presented-by-ncrcrd-2/
LOCATION:Zoom
CATEGORIES:Webinar
ATTACH;FMTTYPE=image/png:https://cdsociety.org/wp-content/uploads/2025/03/Homepage-APRIl-21-2025-CDS-Webinar-Flyer.png
ORGANIZER;CN="Community Development Society":MAILTO:admin@CDSociety.org
END:VEVENT
BEGIN:VEVENT
DTSTART;TZID=America/New_York:20250414T140000
DTEND;TZID=America/New_York:20250414T153000
DTSTAMP:20260422T082212
CREATED:20250226T222402Z
LAST-MODIFIED:20250226T222402Z
UID:12640-1744639200-1744644600@cdsociety.org
SUMMARY:April 2025 CDS Board Meeting
DESCRIPTION:CDS Members are invited to register to attend the monthly board meeting. \nIf you are a current CDS Member and wish to join\, please email Tammy Baxter at director@cdsociety.org at least three days before the meeting date.  If you are an active CDS Member\, you will receive a Zoom invite with meeting link to join.
URL:https://cdsociety.org/event/april-2025-cds-board-meeting/
ATTACH;FMTTYPE=image/png:https://cdsociety.org/wp-content/uploads/2024/02/Board-Meeting.png
END:VEVENT
BEGIN:VEVENT
DTSTART;TZID=America/New_York:20250310T140000
DTEND;TZID=America/New_York:20250310T153000
DTSTAMP:20260422T082212
CREATED:20241204T053111Z
LAST-MODIFIED:20241204T053238Z
UID:12305-1741615200-1741620600@cdsociety.org
SUMMARY:March 2025 CDS Board Meeting
DESCRIPTION:CDS Members are invited to register to attend the monthly board meeting. \nIf you are a current CDS Member and wish to join\, please email Tammy Baxter at director@cdsociety.org at least three days before the meeting date.  If you are an active CDS Member\, you will receive a Zoom invite with meeting link to join.
URL:https://cdsociety.org/event/march-2025-cds-board-meeting/
ATTACH;FMTTYPE=image/png:https://cdsociety.org/wp-content/uploads/2024/02/Board-Meeting.png
END:VEVENT
BEGIN:VEVENT
DTSTART;TZID=America/New_York:20250210T080000
DTEND;TZID=America/New_York:20250210T170000
DTSTAMP:20260422T082212
CREATED:20241204T053016Z
LAST-MODIFIED:20241204T053324Z
UID:12303-1739174400-1739206800@cdsociety.org
SUMMARY:February 2025 CDS Board Meeting
DESCRIPTION:CDS Members are invited to register to attend the monthly board meeting. \nIf you are a current CDS Member and wish to join\, please email Tammy Baxter at director@cdsociety.org at least three days before the meeting date.  If you are an active CDS Member\, you will receive a Zoom invite with meeting link to join.
URL:https://cdsociety.org/event/february-2025-cds-board-meeting/
ATTACH;FMTTYPE=image/png:https://cdsociety.org/wp-content/uploads/2024/02/Board-Meeting.png
END:VEVENT
BEGIN:VEVENT
DTSTART;TZID=America/New_York:20250113T140000
DTEND;TZID=America/New_York:20250113T153000
DTSTAMP:20260422T082212
CREATED:20241204T052917Z
LAST-MODIFIED:20241204T053410Z
UID:12300-1736776800-1736782200@cdsociety.org
SUMMARY:January 2025 CDS Board Meeting
DESCRIPTION:CDS Members are invited to register to attend the monthly board meeting. \nIf you are a current CDS Member and wish to join\, please email Tammy Baxter at director@cdsociety.org at least three days before the meeting date.  If you are an active CDS Member\, you will receive a Zoom invite with meeting link to join.
URL:https://cdsociety.org/event/january-2025-cds-board-meeting/
ATTACH;FMTTYPE=image/png:https://cdsociety.org/wp-content/uploads/2024/02/Board-Meeting.png
END:VEVENT
BEGIN:VEVENT
DTSTART;TZID=America/New_York:20241210T120000
DTEND;TZID=America/New_York:20241210T133000
DTSTAMP:20260422T082212
CREATED:20241204T052629Z
LAST-MODIFIED:20241204T053507Z
UID:12296-1733832000-1733837400@cdsociety.org
SUMMARY:CDS Member Survey Results Meeting (Member Only Event)
DESCRIPTION:CDS Members are invited to register to attend the Member Survey Results Meeting on December 10\, 2024 from 12:00 p.m. to 1:30 p.m. EST. \nIf you are a current CDS Member and wish to register for this event\, please check your email for the registration reminders.
URL:https://cdsociety.org/event/cds-member-survey-results-meeting-member-only-event/
ATTACH;FMTTYPE=image/png:https://cdsociety.org/wp-content/uploads/2024/12/CDS-Member-Survey-Dec-10-2024-Meeting-Banner-for-Zoom-640-x-200-px.png
END:VEVENT
BEGIN:VEVENT
DTSTART;TZID=America/New_York:20241209T080000
DTEND;TZID=America/New_York:20241209T170000
DTSTAMP:20260422T082212
CREATED:20240530T152454Z
LAST-MODIFIED:20240530T152454Z
UID:11159-1733731200-1733763600@cdsociety.org
SUMMARY:December 2024 CDS Board Meeting
DESCRIPTION:CDS Members are invited to register to attend the monthly board meeting. \nIf you are a current CDS Member and wish to join\, please email Tammy Baxter at director@cdsociety.org at least three days before the meeting date.  If you are an active CDS Member\, you will receive a Zoom invite with meeting link to join.
URL:https://cdsociety.org/event/december-2024-cds-board-meeting/
CATEGORIES:CDS Monthly Board Meeting
ATTACH;FMTTYPE=image/png:https://cdsociety.org/wp-content/uploads/2024/02/Board-Meeting.png
END:VEVENT
BEGIN:VEVENT
DTSTART;TZID=America/New_York:20241111T140000
DTEND;TZID=America/New_York:20241111T153000
DTSTAMP:20260422T082212
CREATED:20240530T152345Z
LAST-MODIFIED:20240530T152345Z
UID:11157-1731333600-1731339000@cdsociety.org
SUMMARY:November 2024 CDS Board Meeting
DESCRIPTION:CDS Members are invited to register to attend the monthly board meeting. \nIf you are a current CDS Member and wish to join\, please email Tammy Baxter at director@cdsociety.org at least three days before the meeting date.  If you are an active CDS Member\, you will receive a Zoom invite with meeting link to join.
URL:https://cdsociety.org/event/november-2024-cds-board-meeting/
CATEGORIES:CDS Monthly Board Meeting
ATTACH;FMTTYPE=image/png:https://cdsociety.org/wp-content/uploads/2024/02/Board-Meeting.png
END:VEVENT
BEGIN:VEVENT
DTSTART;TZID=America/New_York:20241014T140000
DTEND;TZID=America/New_York:20241014T153000
DTSTAMP:20260422T082212
CREATED:20240530T152221Z
LAST-MODIFIED:20240530T152532Z
UID:11155-1728914400-1728919800@cdsociety.org
SUMMARY:October 2024 CDS Board Meeting
DESCRIPTION:CDS Members are invited to register to attend the monthly board meeting. \nIf you are a current CDS Member and wish to join\, please email Tammy Baxter at director@cdsociety.org at least three days before the meeting date.  If you are an active CDS Member\, you will receive a Zoom invite with meeting link to join.
URL:https://cdsociety.org/event/october-2024-cds-board-meeting/
CATEGORIES:CDS Monthly Board Meeting
ATTACH;FMTTYPE=image/png:https://cdsociety.org/wp-content/uploads/2024/02/Board-Meeting.png
END:VEVENT
BEGIN:VEVENT
DTSTART;TZID=America/New_York:20240909T140000
DTEND;TZID=America/New_York:20240909T153000
DTSTAMP:20260422T082212
CREATED:20240530T152104Z
LAST-MODIFIED:20240530T152650Z
UID:11153-1725890400-1725895800@cdsociety.org
SUMMARY:September 2024 CDS Board Meeting
DESCRIPTION:CDS Members are invited to register to attend the monthly board meeting. \nIf you are a current CDS Member and wish to join\, please email Tammy Baxter at director@cdsociety.org at least three days before the meeting date.  If you are an active CDS Member\, you will receive a Zoom invite with meeting link to join.
URL:https://cdsociety.org/event/september-2024-cds-board-meeting/
CATEGORIES:CDS Monthly Board Meeting
ATTACH;FMTTYPE=image/png:https://cdsociety.org/wp-content/uploads/2024/02/Board-Meeting.png
END:VEVENT
BEGIN:VEVENT
DTSTART;TZID=America/New_York:20240812T140000
DTEND;TZID=America/New_York:20240812T153000
DTSTAMP:20260422T082212
CREATED:20240530T151932Z
LAST-MODIFIED:20240530T151932Z
UID:11150-1723471200-1723476600@cdsociety.org
SUMMARY:August 2024 CDS Board Meeting
DESCRIPTION:CDS Members are invited to register to attend the monthly board meeting. \nIf you are a current CDS Member and wish to join\, please email Tammy Baxter at director@cdsociety.org at least three days before the meeting date.  If you are an active CDS Member\, you will receive a Zoom invite with meeting link to join.
URL:https://cdsociety.org/event/august-2024-cds-board-meeting/
CATEGORIES:CDS Monthly Board Meeting
ATTACH;FMTTYPE=image/png:https://cdsociety.org/wp-content/uploads/2024/02/Board-Meeting.png
END:VEVENT
BEGIN:VEVENT
DTSTART;VALUE=DATE:20240714
DTEND;VALUE=DATE:20240718
DTSTAMP:20260422T082212
CREATED:20240530T151027Z
LAST-MODIFIED:20240530T151027Z
UID:11146-1720915200-1721260799@cdsociety.org
SUMMARY:2024 CDS Annual Conference
DESCRIPTION:Dates: July 14 – 17\nLocation: Omaha\, Nebraska\n\n\n\n\nTheme: Creating Capacity for Resilient Communities\nTo Learn More and to Register\, click HERE
URL:https://cdsociety.org/event/2024-cds-annual-conference/
CATEGORIES:Annual Conference
ATTACH;FMTTYPE=image/png:https://cdsociety.org/wp-content/uploads/2024/05/2024-CDS-Annual-Conference-Flyer-.png
ORGANIZER;CN="Community Development Society":MAILTO:admin@CDSociety.org
END:VEVENT
BEGIN:VEVENT
DTSTART;TZID=America/New_York:20240610T140000
DTEND;TZID=America/New_York:20240610T153000
DTSTAMP:20260422T082212
CREATED:20240328T203207Z
LAST-MODIFIED:20240328T203207Z
UID:10425-1718028000-1718033400@cdsociety.org
SUMMARY:June 2024 CDS Board Meeting
DESCRIPTION:CDS Members are invited to register to attend the monthly board meeting. \n\n\n\nIf you are a current CDS Member and wish to join\, please email Tammy Baxter at director@cdsociety.org at least three days before the meeting date.  If you are an active CDS Member\, you will receive a Zoom invite with meeting link to join.
URL:https://cdsociety.org/event/june-2024-cds-board-meeting/
CATEGORIES:CDS Monthly Board Meeting
ATTACH;FMTTYPE=image/png:https://cdsociety.org/wp-content/uploads/2024/02/Board-Meeting.png
ORGANIZER;CN="Community Development Society":MAILTO:admin@CDSociety.org
END:VEVENT
BEGIN:VEVENT
DTSTART;TZID=America/New_York:20240515T140000
DTEND;TZID=America/New_York:20240515T150000
DTSTAMP:20260422T082212
CREATED:20240430T215234Z
LAST-MODIFIED:20240530T152617Z
UID:10878-1715781600-1715785200@cdsociety.org
SUMMARY:Free Webinar: Leadership Chautauqua: Revolutionizing Extension’s Approach to Community Development Systems (Co-sponsored by the CDS and Presented by NCRCRD)
DESCRIPTION:The CDS is co-sponsoring a webinar on May 15th at 12 p.m. CT/1 p.m. ET\,  presented by the North Central Regional Center for Rural Development (NCRCRD). \nThe webinar titled\, Leadership Chautauqua: Revolutionizing Extension’s Approach to Community Development Systems\, will focus on encouraging sustainable approaches to community leadership development. \nTo register for the May 15th webinar\, please click HERE.
URL:https://cdsociety.org/event/free-webinar-leadership-chautauqua-revolutionizing-extensions-approach-to-community-development-systems-co-sponsored-by-the-cds-and-presented-by-ncrcrd/
LOCATION:Zoom
CATEGORIES:Webinar
ATTACH;FMTTYPE=image/jpeg:https://cdsociety.org/wp-content/uploads/2024/04/Webinar_May2024_v01.jpg
ORGANIZER;CN="Community Development Society":MAILTO:admin@CDSociety.org
END:VEVENT
BEGIN:VEVENT
DTSTART;TZID=America/New_York:20240513T140000
DTEND;TZID=America/New_York:20240513T153000
DTSTAMP:20260422T082212
CREATED:20240328T203053Z
LAST-MODIFIED:20240328T203053Z
UID:10423-1715608800-1715614200@cdsociety.org
SUMMARY:May 2024 CDS Board Meeting
DESCRIPTION:CDS Members are invited to register to attend the monthly board meeting. \n\n\n\nIf you are a current CDS Member and wish to join\, please email Tammy Baxter at director@cdsociety.org at least three days before the meeting date.  If you are an active CDS Member\, you will receive a Zoom invite with meeting link to join.
URL:https://cdsociety.org/event/may-2024-cds-board-meeting/
CATEGORIES:CDS Monthly Board Meeting
ATTACH;FMTTYPE=image/png:https://cdsociety.org/wp-content/uploads/2024/02/Board-Meeting.png
ORGANIZER;CN="Community Development Society":MAILTO:admin@CDSociety.org
END:VEVENT
END:VCALENDAR